BEGIN:VCALENDAR
VERSION:2.0
PRODID:-//wp-events-plugin.com//6.6.5//EN
BEGIN:VEVENT
UID:399@lucifergolfingsociety.com
DTSTART:20260326T120000Z
DTEND:20260326T220000Z
DTSTAMP:20251218T120433Z
URL:https://lucifergolfingsociety.com/events/aldeburgh-gc-day1-2026/
SUMMARY:Aldeburgh GC
DESCRIPTION:Players who want to bring their wives or partners should  advi
 se the Match Manager whether or not (i) they are staying in a hotel locall
 y and (ii)  wish to play against the competitors’ ladies and on which d
 ays in the case of each of (i) and (ii).
CATEGORIES:Match
LOCATION:Aldeburgh Golf Club\, Saxmundham Road\, Aldeburgh\, Suffolk\, IP15
  5PE\, United Kingdom
GEO:52.166443818142724;1.5777439396728141
X-APPLE-STRUCTURED-LOCATION;VALUE=URI;X-ADDRESS=Saxmundham Road\, Aldeburgh
 \, Suffolk\, IP15 5PE\, United Kingdom;X-APPLE-RADIUS=100;X-TITLE=Aldeburg
 h Golf Club:geo:52.166443818142724,1.5777439396728141
END:VEVENT
END:VCALENDAR