BEGIN:VCALENDAR
VERSION:2.0
PRODID:-//wp-events-plugin.com//6.6.5//EN
BEGIN:VEVENT
UID:425@lucifergolfingsociety.com
DTSTART:20260924T080000Z
DTEND:20260925T120000Z
DTSTAMP:20260120T093433Z
URL:https://lucifergolfingsociety.com/events/autumn-meeting-2026-day2/
SUMMARY:Autumn Meeting
DESCRIPTION:[vc_row][vc_column][vc_column_text css=""]The Autumn Meeting wi
 ll take place at Royal St George's Club on 24th and 25th September 2026.\n
 \nThursday 24th September 2026 - Stableford Singles for Prince of Wales Tr
 ophy.  Over 75s play for the Sir John Hay Bowl. Stableford Singles Compet
 ition for Spouses &amp\; Partners attending the Autumn Meeting\n\nFriday 2
 5th September 2026 - Stableford Foursomes for Lucifers and Spouses/Partner
 s.\n\n24 &amp\; 25 at Royal St George's\n\n24 September – Royal St Georg
 e’s\n\n 	Foursomes golf (tee times 9.30–10.30am and 2.30–3.30pm)\n 	
 Lunch in the clubhouse and dinner TBD\n 	Mixed foursomes may be played\, d
 epending on numbers\n\n25 September - Royal St George’s\n\n 	Morning Fou
 rsomes golf\n\nPrice and payment will be confirmed once final numbers are 
 known.\n\nDouble rooms at The Bell are £351 for two nights. I am sure som
 e locals will want to stay at their homes but hopefully many can be at the
  Bell and we will be dining together on the two evenings.\n\nUse the form 
 below to indicate your intention to play at Royal St George's.[/vc_column_
 text][/vc_column][/vc_row]
CATEGORIES:Meeting
LOCATION:Royal St. George's Golf Club\, Clubhouse\, Sandwich\, Kent\, CT13 
 9QB\, United Kingdom
GEO:51.2842072;1.3769139999999425
X-APPLE-STRUCTURED-LOCATION;VALUE=URI;X-ADDRESS=Clubhouse\, Sandwich\, Kent
 \, CT13 9QB\, United Kingdom;X-APPLE-RADIUS=100;X-TITLE=Royal St. George's
  Golf Club:geo:51.2842072,1.3769139999999425
END:VEVENT
END:VCALENDAR