BEGIN:VCALENDAR
VERSION:2.0
PRODID:-//wp-events-plugin.com//6.6.5//EN
BEGIN:VEVENT
UID:424@lucifergolfingsociety.com
DTSTART:20260923T000000Z
DTEND:20260923T235900Z
DTSTAMP:20260120T093434Z
URL:https://lucifergolfingsociety.com/events/autumn-meeting-2026/
SUMMARY:Autumn Meeting
DESCRIPTION:[vc_row][vc_column][vc_column_text css=""]The Autumn Meeting wi
 ll take place at Royal Cinque Ports and Royal St George's Clubs on 23rd\, 
 24th and 25th September 2026.\n\nWednesday 23rd September\, informal golf 
 at Royal Cinque Ports\,  Thursday 24th September 2025 - Stableford Single
 s for Prince of Wales Trophy.  Over 75's play for the Sir John Hay Bowl. 
 Stableford Singles Competition for Spouses &amp\; Partners attending the A
 utumn Meeting. Friday 25th September\, Stableford Foursomes for Lucifers a
 nd Spouses/Partners.\n\n 	Afternoon two-ball golf.\n 	Prince of Wales Cup 
 (or Sir John Hay Bowl for over-75s)\n 	Black-tie dinner in the Clubhouse\n
  	Separate golf arranged for Lucifer Ladies\n\nPrice and payment will be c
 onfirmed once final numbers are known.\n\nDouble rooms at The Bell are £3
 51 for two nights. I am sure some locals will want to stay at their homes 
 but hopefully many can be at the Bell and we will be dining together on th
 e two evenings.\n\nUse the form below to indicate your intention to play a
 t Royal Cinque Ports.[/vc_column_text][/vc_column][/vc_row]
CATEGORIES:Meeting
LOCATION:Royal Cinque Ports GC\, Gold Rd\,\, Deal\,\, CT14 6RF\, United Kin
 gdom
GEO:51.241113;1.396823
X-APPLE-STRUCTURED-LOCATION;VALUE=URI;X-ADDRESS=Gold Rd\,\, Deal\,\, CT14 6
 RF\, United Kingdom;X-APPLE-RADIUS=100;X-TITLE=Royal Cinque Ports GC:geo:5
 1.241113,1.396823
END:VEVENT
END:VCALENDAR