BEGIN:VCALENDAR
VERSION:2.0
PRODID:-//wp-events-plugin.com//6.6.5//EN
BEGIN:VEVENT
UID:404@lucifergolfingsociety.com
DTSTART;VALUE=DATE:20260227
DTEND;VALUE=DATE:20260228
DTSTAMP:20260126T092938Z
URL:https://lucifergolfingsociety.com/events/carlton-knockout-2026/
SUMMARY:Carlton Knockout 2026
DESCRIPTION:[vc_row][vc_column][vc_column_text css=""]\nCarlton Knockout\nT
 his is an individual match play knockout competition open to all Lucifers 
 to play for the Carlton Trophy off your current  Handicap Index adjusted 
 to the applicable local course by reference to its slope rating and (where
  relevant) as revised in accordance with Rule M in the Summary of the Rule
 s of the Society's set out in the Lucifer List of Members.\n\nNames will b
 e drawn by the Hon Match Scribe and the draw will be sent to the contestan
 ts as well as posted on the website. Matches are played at the home club o
 f the Lucifer who is top of the draw\, and visiting Lucifers are granted a
 n extra shot by their host.\n\nAll matches are to be played by the date as
  set out by the Hon Match Scribe and the Carlton Trophy will be presented 
 to the winner at the first Lucifer dinner taking place after the knockout 
 tournament is concluded.\n\nClosing date for entries: 27 February 2026[/vc
 _column_text][/vc_column][/vc_row]
CATEGORIES:Knockout
END:VEVENT
END:VCALENDAR