BEGIN:VCALENDAR
VERSION:2.0
PRODID:-//wp-events-plugin.com//6.6.5//EN
BEGIN:VEVENT
UID:415@lucifergolfingsociety.com
DTSTART:20260619T080000Z
DTEND:20260619T150000Z
DTSTAMP:20251218T125029Z
URL:https://lucifergolfingsociety.com/events/edward-brice-trophy-2026-2/
SUMMARY:Edward Brice Trophy
DESCRIPTION:
CATEGORIES:Match
LOCATION:Royal St. George's Golf Club\, Clubhouse\, Sandwich\, Kent\, CT13 
 9QB\, United Kingdom
GEO:51.2842072;1.3769139999999425
X-APPLE-STRUCTURED-LOCATION;VALUE=URI;X-ADDRESS=Clubhouse\, Sandwich\, Kent
 \, CT13 9QB\, United Kingdom;X-APPLE-RADIUS=100;X-TITLE=Royal St. George's
  Golf Club:geo:51.2842072,1.3769139999999425
END:VEVENT
END:VCALENDAR