BEGIN:VCALENDAR
VERSION:2.0
PRODID:-//wp-events-plugin.com//6.6.5//EN
BEGIN:VEVENT
UID:418@lucifergolfingsociety.com
DTSTART:20260722T080000Z
DTEND:20260722T180000Z
DTSTAMP:20251218T125752Z
URL:https://lucifergolfingsociety.com/events/h-a-c-gs-2026/
SUMMARY:H.A.C GS
DESCRIPTION:
CATEGORIES:Match
LOCATION:Ashridge Golf Club\, Golf Club Rd\, Berkhamsted\, HP4 1LY\, United
  Kingdom
GEO:51.808978;-0.5706357999999909
X-APPLE-STRUCTURED-LOCATION;VALUE=URI;X-ADDRESS=Golf Club Rd\, Berkhamsted\
 , HP4 1LY\, United Kingdom;X-APPLE-RADIUS=100;X-TITLE=Ashridge Golf Club:g
 eo:51.808978,-0.5706357999999909
END:VEVENT
END:VCALENDAR