BEGIN:VCALENDAR
VERSION:2.0
PRODID:-//wp-events-plugin.com//6.6.5//EN
BEGIN:VEVENT
UID:413@lucifergolfingsociety.com
DTSTART:20260611T080000Z
DTEND:20260611T180000Z
DTSTAMP:20251218T130621Z
URL:https://lucifergolfingsociety.com/events/hunstanton-gc-2026/
SUMMARY:Hunstanton GC
DESCRIPTION:[vc_row][vc_column][vc_column_text css=""]Players who want to b
 ring their wives or partners should advise the Match Manager whether or no
 t (i) they are staying in a hotel locally and (ii)  wish to play against 
 the competitors’ ladies and on which days in the case of each of (i) and
  (ii).[/vc_column_text][/vc_column][/vc_row]
CATEGORIES:Match
LOCATION:Hunstanton Golf Club\, Golf Course Rd\, Hunstanton\, Norfolk \, PE
 36 6JQ\, United Kingdom
GEO:52.955479;0.507688
X-APPLE-STRUCTURED-LOCATION;VALUE=URI;X-ADDRESS=Golf Course Rd\, Hunstanton
 \, Norfolk \, PE36 6JQ\, United Kingdom;X-APPLE-RADIUS=100;X-TITLE=Hunstan
 ton Golf Club:geo:52.955479,0.507688
END:VEVENT
END:VCALENDAR