BEGIN:VCALENDAR
VERSION:2.0
PRODID:-//wp-events-plugin.com//6.6.5//EN
BEGIN:VEVENT
UID:429@lucifergolfingsociety.com
DTSTART:20260818T080000Z
DTEND:20260818T150000Z
DTSTAMP:20251219T102004Z
URL:https://lucifergolfingsociety.com/events/huntercombe-gc/
SUMMARY:Huntercombe GC
DESCRIPTION:[vc_row][vc_column][vc_column_text css=""][/vc_column_text][/vc
 _column][/vc_row]
CATEGORIES:Match
LOCATION:Huntercombe Golf Club\, Nuffield\, Henley-on-Thames\, RG9 5SL\, Un
 ited Kingdom
GEO:51.581183;-1.033573
X-APPLE-STRUCTURED-LOCATION;VALUE=URI;X-ADDRESS=Nuffield\, Henley-on-Thames
 \, RG9 5SL\, United Kingdom;X-APPLE-RADIUS=100;X-TITLE=Huntercombe Golf Cl
 ub:geo:51.581183,-1.033573
END:VEVENT
END:VCALENDAR