BEGIN:VCALENDAR
VERSION:2.0
PRODID:-//wp-events-plugin.com//6.6.5//EN
BEGIN:VEVENT
UID:406@lucifergolfingsociety.com
DTSTART:20260520T080000Z
DTEND:20260520T180000Z
DTSTAMP:20260106T104657Z
URL:https://lucifergolfingsociety.com/events/lloyds-gs-2026/
SUMMARY:Lloyds GC
DESCRIPTION:
CATEGORIES:Match
LOCATION:Walton Heath Golf Club\, Deans Lane\, Walton on the Hill\, Surrey\
 , KT20 7TP\, United Kingdom
GEO:51.278191;-0.242417
X-APPLE-STRUCTURED-LOCATION;VALUE=URI;X-ADDRESS=Deans Lane\, Walton on the 
 Hill\, Surrey\, KT20 7TP\, United Kingdom;X-APPLE-RADIUS=100;X-TITLE=Walto
 n Heath Golf Club:geo:51.278191,-0.242417
END:VEVENT
END:VCALENDAR