BEGIN:VCALENDAR
VERSION:2.0
PRODID:-//wp-events-plugin.com//6.6.5//EN
BEGIN:VEVENT
UID:407@lucifergolfingsociety.com
DTSTART:20260318T183000Z
DTEND:20260318T234500Z
DTSTAMP:20260302T112450Z
URL:https://lucifergolfingsociety.com/events/members-dinner-2026/
SUMMARY:Members Dinner
DESCRIPTION:[vc_row][vc_column][vc_column_text css=""]Dress code: Dinner ja
 cket\, Lucifer bow tie and Name tag.\n\nThe price of the dinner is £125\,
  to include a reception and wine with dinner.\n\nArrive at the club 6:30pm
 .\n\nDinner to commence at 7:30 pm promptly. Carriages at 10pm.\n\nNumbers
  are strictly limited to 48 diners.\n\nPlease enter and pay below to secur
 e your space.  Applicants should pay via Stripe on the website.[/vc_colum
 n_text][/vc_column][/vc_row]
CATEGORIES:Dinner
LOCATION:The Garrick Club\, 15 Garrick Street\, London\, WC2E 9AY\, United 
 Kingdom
GEO:51.511429;-0.12627
X-APPLE-STRUCTURED-LOCATION;VALUE=URI;X-ADDRESS=15 Garrick Street\, London\
 , WC2E 9AY\, United Kingdom;X-APPLE-RADIUS=100;X-TITLE=The Garrick Club:ge
 o:51.511429,-0.12627
END:VEVENT
END:VCALENDAR