BEGIN:VCALENDAR
VERSION:2.0
PRODID:-//wp-events-plugin.com//6.6.5//EN
BEGIN:VEVENT
UID:428@lucifergolfingsociety.com
DTSTART:20261104T180000Z
DTEND:20261104T223000Z
DTSTAMP:20251219T130723Z
URL:https://lucifergolfingsociety.com/events/members-guests-dinner-2026/
SUMMARY:Members & Guests Dinner
DESCRIPTION:[vc_row][vc_column][vc_column_text css=""]Dress Code: Black Tie
  - Lucifer bow tie and name badges\n\nStart time: 6:00pm for 7:00pm dinner
 \n\nSpaces: 53\n\nCost: £135 per person\n\nCarriages: 10:30pm[/vc_column
 _text][/vc_column][/vc_row]
CATEGORIES:Dinner
LOCATION:Boodle's\, 28 St James's St\, London\, SW1A 1HJ \, United Kingdom
GEO:51.506973;-0.139294
X-APPLE-STRUCTURED-LOCATION;VALUE=URI;X-ADDRESS=28 St James's St\, London\,
  SW1A 1HJ \, United Kingdom;X-APPLE-RADIUS=100;X-TITLE=Boodle's:geo:51.506
 973,-0.139294
END:VEVENT
END:VCALENDAR