BEGIN:VCALENDAR
VERSION:2.0
PRODID:-//wp-events-plugin.com//6.6.5//EN
BEGIN:VEVENT
UID:420@lucifergolfingsociety.com
DTSTART:20260805T080000Z
DTEND:20260805T180000Z
DTSTAMP:20260106T110522Z
URL:https://lucifergolfingsociety.com/events/rafgc-2026/
SUMMARY:RAFGC
DESCRIPTION:
CATEGORIES:Match
LOCATION:Royal Ashdown Forest\, Chapel Ln\, Forest Row \, RH18 5LR\, United
  Kingdom
GEO:51.088425;0.042195
X-APPLE-STRUCTURED-LOCATION;VALUE=URI;X-ADDRESS=Chapel Ln\, Forest Row \, R
 H18 5LR\, United Kingdom;X-APPLE-RADIUS=100;X-TITLE=Royal Ashdown Forest:g
 eo:51.088425,0.042195
END:VEVENT
END:VCALENDAR