BEGIN:VCALENDAR
VERSION:2.0
PRODID:-//wp-events-plugin.com//6.6.5//EN
BEGIN:VEVENT
UID:416@lucifergolfingsociety.com
DTSTART:20260622T120000Z
DTEND:20260622T180000Z
DTSTAMP:20251219T122829Z
URL:https://lucifergolfingsociety.com/events/ross-graham-trophy-2026/
SUMMARY:Sunningdale Seniors
DESCRIPTION:
CATEGORIES:Match
LOCATION:Sunningdale Golf Club\, Ridgemount Rd\, Ascot\, SL5 9RR\, United K
 ingdom
GEO:51.3866934;-0.6324878000000353
X-APPLE-STRUCTURED-LOCATION;VALUE=URI;X-ADDRESS=Ridgemount Rd\, Ascot\, SL5
  9RR\, United Kingdom;X-APPLE-RADIUS=100;X-TITLE=Sunningdale Golf Club:geo
 :51.3866934,-0.6324878000000353
END:VEVENT
END:VCALENDAR