BEGIN:VCALENDAR
VERSION:2.0
PRODID:-//wp-events-plugin.com//6.6.5//EN
BEGIN:VEVENT
UID:412@lucifergolfingsociety.com
DTSTART:20260610T080000Z
DTEND:20260610T150000Z
DTSTAMP:20260106T104834Z
URL:https://lucifergolfingsociety.com/events/royal-west-norfolk-2026/
SUMMARY:Royal West Norfolk
DESCRIPTION:Players who want to bring their wives or partners should advise
  the Match Manager whether or not (i) they are staying in a hotel locally 
 and (ii)  wish to play against the competitors’ ladies and on which day
 s in the case of each of (i) and (ii).
CATEGORIES:Match
LOCATION:Brancaster Golf Club\, Beach Road\, Brancaster\, PE31 8AX\, United
  Kingdom
GEO:52.97427;0.636343
X-APPLE-STRUCTURED-LOCATION;VALUE=URI;X-ADDRESS=Beach Road\, Brancaster\, P
 E31 8AX\, United Kingdom;X-APPLE-RADIUS=100;X-TITLE=Brancaster Golf Club:g
 eo:52.97427,0.636343
END:VEVENT
END:VCALENDAR