BEGIN:VCALENDAR
VERSION:2.0
PRODID:-//wp-events-plugin.com//6.6.5//EN
BEGIN:VEVENT
UID:423@lucifergolfingsociety.com
DTSTART:20260918T080000Z
DTEND:20260918T180000Z
DTSTAMP:20251218T134411Z
URL:https://lucifergolfingsociety.com/events/rye-gc-2026/
SUMMARY:Rye GC
DESCRIPTION:
CATEGORIES:Match
LOCATION:Rye Golf Club\, New Lydd Road\, Rye\, East Sussex\, TN31 7QS\, Uni
 ted Kingdom
GEO:50.9370718;0.7860468000000083
X-APPLE-STRUCTURED-LOCATION;VALUE=URI;X-ADDRESS=New Lydd Road\, Rye\, East 
 Sussex\, TN31 7QS\, United Kingdom;X-APPLE-RADIUS=100;X-TITLE=Rye Golf Clu
 b:geo:50.9370718,0.7860468000000083
END:VEVENT
END:VCALENDAR