BEGIN:VCALENDAR
VERSION:2.0
PRODID:-//wp-events-plugin.com//6.6.5//EN
BEGIN:VEVENT
UID:417@lucifergolfingsociety.com
DTSTART:20260720T080000Z
DTEND:20260720T180000Z
DTSTAMP:20251218T125541Z
URL:https://lucifergolfingsociety.com/events/senior-golfers-society-2026/
SUMMARY:Senior Golfers Society
DESCRIPTION:
CATEGORIES:Match
LOCATION:Piltdown Golf Club\, Golf Club Lane\, Piltdown\, Uckfield\, TN22 3
 XB\, United Kingdom
GEO:50.9790158;0.06416790000002948
X-APPLE-STRUCTURED-LOCATION;VALUE=URI;X-ADDRESS=Golf Club Lane\, Piltdown\,
  Uckfield\, TN22 3XB\, United Kingdom;X-APPLE-RADIUS=100;X-TITLE=Piltdown 
 Golf Club:geo:50.9790158,0.06416790000002948
END:VEVENT
END:VCALENDAR