BEGIN:VCALENDAR
VERSION:2.0
PRODID:-//wp-events-plugin.com//6.6.5//EN
BEGIN:VEVENT
UID:419@lucifergolfingsociety.com
DTSTART:20260728T080000Z
DTEND:20260728T180000Z
DTSTAMP:20260120T091129Z
URL:https://lucifergolfingsociety.com/events/summer-meeting-2026/
SUMMARY:Summer Meeting
DESCRIPTION:[vc_row][vc_column][vc_column_text css=""]\n\n 	Coffee and baco
 n rolls on arrival\n 	18-hole singles Stableford played in 3-balls\n 	2-co
 urse carvery lunch\n 	Playing for the Hedley Le Bas Salver (winner receive
 s a Lucifer)\n\nOptional afternoon golf is available at a small additional
  cost.[/vc_column_text][/vc_column][/vc_row]
CATEGORIES:Meeting
LOCATION:New Zealand Golf Club\, 470 Woodham Lane\, Addlestone\, Surrey\, K
 T15 3QD\, United Kingdom
GEO:51.34075199999999;-0.5211879999999383
X-APPLE-STRUCTURED-LOCATION;VALUE=URI;X-ADDRESS=470 Woodham Lane\, Addlesto
 ne\, Surrey\, KT15 3QD\, United Kingdom;X-APPLE-RADIUS=100;X-TITLE=New Zea
 land Golf Club:geo:51.34075199999999,-0.5211879999999383
END:VEVENT
END:VCALENDAR