BEGIN:VCALENDAR
VERSION:2.0
PRODID:-//wp-events-plugin.com//6.6.5//EN
BEGIN:VEVENT
UID:411@lucifergolfingsociety.com
DTSTART:20260527T080000Z
DTEND:20260527T143000Z
DTSTAMP:20260108T104424Z
URL:https://lucifergolfingsociety.com/events/tim-hobsons-side-day2-2026/
SUMMARY:Tim Hobson's Side
DESCRIPTION:
CATEGORIES:Match
LOCATION:Burnham & Berrow Golf Club\, St Christophers Way\, Burnham-on-Sea 
 \, TA8 2PE\, United Kingdom
GEO:51.251699;-3.00057
X-APPLE-STRUCTURED-LOCATION;VALUE=URI;X-ADDRESS=St Christophers Way\, Burnh
 am-on-Sea \, TA8 2PE\, United Kingdom;X-APPLE-RADIUS=100;X-TITLE=Burnham &
  Berrow Golf Club:geo:51.251699,-3.00057
END:VEVENT
END:VCALENDAR