BEGIN:VCALENDAR
VERSION:2.0
PRODID:-//wp-events-plugin.com//6.6.5//EN
BEGIN:VEVENT
UID:427@lucifergolfingsociety.com
DTSTART:20261011T080000Z
DTEND:20261011T150000Z
DTSTAMP:20251218T140621Z
URL:https://lucifergolfingsociety.com/events/walton-heath-gc-2026/
SUMMARY:Walton Heath GC
DESCRIPTION:
CATEGORIES:Match
LOCATION:Walton Heath Golf Club\, Deans Lane\, Walton-on-the-Hill\, Tadwort
 h\, KT20 7TP\, United Kingdom
GEO:51.2807269;-0.24139809999996942
X-APPLE-STRUCTURED-LOCATION;VALUE=URI;X-ADDRESS=Deans Lane\, Walton-on-the-
 Hill\, Tadworth\, KT20 7TP\, United Kingdom;X-APPLE-RADIUS=100;X-TITLE=Wal
 ton Heath Golf Club:geo:51.2807269,-0.24139809999996942
END:VEVENT
END:VCALENDAR